BEGIN:VCALENDAR
VERSION:2.0
PRODID:-//My Community Diary//iCal Event//EN
CALSCALE:GREGORIAN
METHOD:PUBLISH
BEGIN:VEVENT
UID:faae9d8d-d326-4ab1-b265-7f87c73c754e
DTSTAMP:20260422T015741Z
DTSTART;VALUE=DATE:20260517
DTEND;VALUE=DATE:20260518
SUMMARY:Simon Taylor - Sydney Comedy Festival
DESCRIPTION:Don't let his appearance on The Tonight Show starring Jimmy Fallon\, or Netflix\, or Just for Laughs\, or Comedy Up Late fool you. Don't be sucked in by his five star reviews or the hundreds of millions of views he has online. Come see for yourself why this is Simon Taylor's most rambunctious show yet.\n\nBounding out of the Melbourne comedy scene\, Simon found himself in Los Angeles early in his career\, penning jokes for Jay Leno and touring the United States. Since then he's released four comedy specials\, receiving critical acclaim for his blend of smarts and hilarity.\n\nCatch him before his agent makes him increase the ticket price.
LOCATION:\, 118-132 Enmore Road\, Newtown\, NSW 2042\, NSW\, 2042
RRULE:FREQ=DAILY;INTERVAL=1;UNTIL=20260519T000000Z
END:VEVENT
END:VCALENDAR
