BEGIN:VCALENDAR
VERSION:2.0
PRODID:-//My Community Diary//iCal Event//EN
CALSCALE:GREGORIAN
METHOD:PUBLISH
BEGIN:VEVENT
UID:0d59d203-d393-487d-a2e7-fe8d5c67aac9
DTSTAMP:20260422T005238Z
DTSTART;VALUE=DATE:20270220
DTEND;VALUE=DATE:20270221
SUMMARY:Shuck and Shell Barrington Coast Sustainable Seafood Festival
DESCRIPTION:Shuck and Shell is a fun-filled foodie's journey from the paddock to the lake to the plate with summer cocktails and sunset tunes to carry you through a delicious sweet chilli crab long table lunch. All of this is set on the extraordinary lakefront peninsula at The Moorings Lakehouse.\n\nThrow in a locally sourced Summer gin cocktail by Wharf Street Distillery and a few delicious Wallis Lake oysters to cap off this epic summer foodie event. \n\nMaestro\, Ilan Kidron from the Potbelleez will keep the good vibes and summer tunes flowing through to sunset. \n\nStart by collecting ingredients from the organic gardens where The Wharf St Distillery Bar staff will serve you up a summer cocktail or mocktail. Then down to the lakefront to break down freshly caught crabs with our very own King Neptune crab fisherman. \n\nNext\, take your bounty up to the chefs to cook up a plate of sweet chilli blue swimmer crab\, and shuck a few Wallis Lake oysters. Find your spot amongst friends\, new and old at the long table listening to some breezy tunes from maestro Ilan Kidron from The Potbelleez.\n\nEntry Cost\nAdult $179  - $179\nAdult tickets include: A plate of sweet chilli blue swimmer crabs\, half a dozen Wallis Lake oysters\, x4 Asian inspired side dishes\, dessert\, one Wharf Street Distillery Summer Cocktail or mocktail. Musical entetainment curated by Ilan Kidron.
LOCATION:\, 1786 Coomba Rd\, Coomba Bay\, NSW 2428\, NSW\, 2428
RRULE:FREQ=DAILY;INTERVAL=1;UNTIL=20270222T000000Z
END:VEVENT
END:VCALENDAR
