BEGIN:VCALENDAR
VERSION:2.0
PRODID:-//My Community Diary//iCal Event//EN
CALSCALE:GREGORIAN
METHOD:PUBLISH
BEGIN:VEVENT
UID:abe591cb-6c54-4c42-b470-ab15fc028eb3
DTSTAMP:20260424T160510Z
DTSTART:20240420T000000Z
DTEND:20240420T235959Z
SUMMARY:Canefield Ashes Carnival
DESCRIPTION:The Canefield Ashes brings the excitement of 20/20 cricket to the sugar capital of Australia.  \nThe competition has quickly developed into a great weekend of cricket\, mateship and socialising.  The  two-day contest is held over a weekend and attracts teams from the Burdekin as well as Bowen\, Proserpine and Charters Towers.\n\n
LOCATION:\, First Avenue\, Home Hill\, QLD 4806\, QLD\, 4806
RRULE:FREQ=DAILY;INTERVAL=1;UNTIL=20240422T000000Z
END:VEVENT
END:VCALENDAR
