BEGIN:VCALENDAR
VERSION:2.0
PRODID:-//My Community Diary//iCal Event//EN
CALSCALE:GREGORIAN
METHOD:PUBLISH
BEGIN:VEVENT
UID:2a7bf438-3656-4ade-ba2f-afc628004e1e
DTSTAMP:20260424T160645Z
DTSTART:20240831T000000Z
DTEND:20240831T235959Z
SUMMARY:Burdekin Water Festival
DESCRIPTION:Celebrating the abundance of water in the district.  The Burdekin Water Festival is one of the longest running festivals in Queensland.  The celebrations include a wide variety of exciting events that encompass the whole community.  This includes an art exhibition that features an extensive display of artworks various mediums created by local artists.
LOCATION:\, 9 Edwards Street\, Ayr\, QLD 4807\, QLD\, 4807
END:VEVENT
END:VCALENDAR
