BEGIN:VCALENDAR
VERSION:2.0
PRODID:-//My Community Diary//iCal Event//EN
CALSCALE:GREGORIAN
METHOD:PUBLISH
BEGIN:VEVENT
UID:5f6cb8dc-ec36-40b1-a4c4-d7db700af0e0
DTSTAMP:20260422T005102Z
DTSTART;VALUE=DATE:20260821
DTEND;VALUE=DATE:20260822
SUMMARY:Shawsy Sessions at the Shaws Bay Hotel
DESCRIPTION:Shawsy Sessions at the Shaws Bay Hotel deliver live music and DJ sets every weekend\, creating an easygoing\, late-night vibe by the bay.\n\nEnjoy free entry all weekend\, with Friday and Saturday evenings featuring a soloist in the Beer Garden from 7pm\, followed by DJs in the Courtyard from 8pm. Sundays slow the pace with live bands in the Beer Garden from 3pm — the perfect way to round out the weekend.\n\nHeld every Friday\, Saturday and Sunday at the Shaws Bay Hotel. Good tunes\, good times\, no cover charge.
LOCATION:\, 3 Brighton St\, East Ballina\, NSW 2478\, NSW\, 2478
RRULE:FREQ=DAILY;INTERVAL=1;UNTIL=20260823T000000Z
END:VEVENT
END:VCALENDAR
