BEGIN:VCALENDAR
VERSION:2.0
PRODID:-//My Community Diary//iCal Event//EN
CALSCALE:GREGORIAN
METHOD:PUBLISH
BEGIN:VEVENT
UID:6c33cfd3-81bd-4dcc-89fd-cc8b678da2c4
DTSTAMP:20260424T160717Z
DTSTART:20220423T000000Z
DTEND:20220423T235959Z
SUMMARY:Burdekin Auto Festival
DESCRIPTION:A three day event with up to 200 classic cars\, hot rods and motorcycles on display including three on site driving events\, dancing\, live entertainment and competitions.
LOCATION:\, 9 Edwards Street\, Ayr\, QLD 4807\, QLD\, 4807
RRULE:FREQ=DAILY;INTERVAL=1;UNTIL=20240513T000000Z
END:VEVENT
END:VCALENDAR
