BEGIN:VCALENDAR
VERSION:2.0
PRODID:-//My Community Diary//iCal Event//EN
CALSCALE:GREGORIAN
METHOD:PUBLISH
BEGIN:VEVENT
UID:05209e8b-4e07-4ec8-b6cc-cc96afc95099
DTSTAMP:20260421T210314Z
DTSTART;VALUE=DATE:20260515
DTEND;VALUE=DATE:20260516
SUMMARY:Seventh Wonder performs Fleetwood Mac
DESCRIPTION:Hailed as one of the world's leading Fleetwood Mac shows\, and managed by former Fleetwood Mac manager Dennis Dunstan\, Seventh Wonder has been applauded by critics and fans alike\, including Mick Fleetwood himself. Don't miss the opportunity to witness the magic as Seventh Wonder brings Fleetwood Mac's iconic music to life. With an "electrifying" and "captivating" performance\, Seventh Wonder delivers an authentic portrayal of one of the most iconic bands in rock history.\n\nImmerse yourself in the timeless melodies of Fleetwood Mac's legendary album\, 'Rumours'\, brought to life in its entirety by Seventh Wonder. From the spirited rhythms of 'Go Your Own Way' to the ethereal allure of 'Dreams'\, and the infectious energy of 'Don't Stop'\, every note resonates with the spirit of Fleetwood Mac. Additionally\, Seventh Wonder will take you on a journey through other cherished hits like 'Little Lies'\, 'Gypsy' and 'Say You Love Me'\, ensuring an unforgettable musical experience.\n\nSeventh Wonder's dedication to preserving Fleetwood Mac's legacy through their mesmerizing performances has garnered acclaim from critics and fans alike. Led by the extraordinary vocal talent of Bloom\, whose voice has been described as "a force of nature\," Seventh Wonder brings the essence of Fleetwood Mac's sound to life with unparalleled precision and passion.\n\nEntry Cost\nAll tickets $69.9 
LOCATION:\, 253 Crawford Street\, Queanbeyan\, NSW 2620\, NSW\, 2620
END:VEVENT
END:VCALENDAR
