BEGIN:VCALENDAR
VERSION:2.0
PRODID:-//My Community Diary//iCal Event//EN
CALSCALE:GREGORIAN
METHOD:PUBLISH
BEGIN:VEVENT
UID:0c588c4f-3b10-4200-b9c2-912a54b50c1a
DTSTAMP:20260421T222357Z
DTSTART;VALUE=DATE:20260919
DTEND;VALUE=DATE:20260920
SUMMARY:September 2026 Aircraft Showcase
DESCRIPTION:Temora Aviation Museum – September Aircraft Showcase\n\nJoin an unforgettable day at the Temora Aviation Museum May Aircraft Showcase. Watch historic 100SQN aircraft take to the air\, explore an impressive collection of ex-military aircraft on the ground\, and get up close to the people who fly and maintain them.\n\nThis family-friendly event offers exciting flying displays\, engaging commentary\, opportunities to meet pilots\, guided experiences around the aircraft\, and plenty to see and do throughout the day. Enjoy food and barista-style coffee from the Guardhouse Café\, relax in shaded picnic areas\, and experience the buzz of a live airfield.\n\nParticipating aircraft will be announced closer to the event via their social media channels — follow along for updates.\n\nA must-see event for aviation enthusiasts\, families\, and anyone looking for a unique day out.\n\nAircraft participation and schedules are subject to change. Children under 16 must be accompanied by an adult.\n\nEntry Cost\nAdult $30 \nChild $0  - Children 3-16 years\nChildren under 3 free\nConcession $25  - Adult over 65 years\nFamily $75  - 2 Adults + 2 Children\n(Children 3-16 years)
LOCATION:\, 1 Tom Moon Ave\, Temora\, NSW 2666\, NSW\, 2666
END:VEVENT
END:VCALENDAR
