BEGIN:VCALENDAR
VERSION:2.0
PRODID:-//My Community Diary//iCal Event//EN
CALSCALE:GREGORIAN
METHOD:PUBLISH
BEGIN:VEVENT
UID:e45e63be-a341-45f0-9f76-4d0beabccebe
DTSTAMP:20260421T225633Z
DTSTART;VALUE=DATE:20260805
DTEND;VALUE=DATE:20260806
SUMMARY:Sensorial
DESCRIPTION:This exhibition includes new and existing work made by neurodivergent and disabled people and those who work with them. The artists and collectives have wholeheartedly embraced the idea of presenting works that captivate our full range of senses and most importantly\, can be touched. The works are invitations to enter each artist's world and consider their perspective.\n\nThe aim of sensorial is to engage multiple senses and move beyond the dominance of sight within the gallery space. The traditional hands-off constraints do not apply. All the works are immersive environments which encourage visitors' physical engagement through touch\, play and interaction.\n\nIt invites you to leave your gallery conditioning at the door and allow yourself to be fully absorbed by these works\, to lose yourself for a moment through play or active participation. Take the time to listen\, feel and sense\, as well as look.
LOCATION:\, Corner of Clarence and Hay Streets\, Port Macquarie\, NSW 2444\, NSW\, 2444
RRULE:FREQ=DAILY;INTERVAL=1;UNTIL=20260807T000000Z
END:VEVENT
END:VCALENDAR
