BEGIN:VCALENDAR
VERSION:2.0
PRODID:-//My Community Diary//iCal Event//EN
CALSCALE:GREGORIAN
METHOD:PUBLISH
BEGIN:VEVENT
UID:f9c49571-f1b8-4e2f-a1bd-360a6d6027cc
DTSTAMP:20260421T222417Z
DTSTART;VALUE=DATE:20260630
DTEND;VALUE=DATE:20260701
SUMMARY:Seaside Foraging Workshop
DESCRIPTION:Learn the what\, where and how of coastal wild food. Join Sydney forager Diego Bonetto on a 2.5-hour workshop learning the what\, where and how of collecting a meal from the seashore.\n\nThis is an informative workshop designed to empower people with identification skills. Participants will receive material on the day and follow-up links to progress with their own research. The knowledge is old and widespread\, and this learning experience will empower participants by giving them the possibility to meet\, touch\, smell and even taste the plants. \n\nThe workshop is a family and pet-friendly stroll by the sea. Dress for the weather\, and cameras and notebooks are recommended. Venturing onto the rock platform is often slippery and will depend on wave conditions. \n\nPlease note that this workshop is not suitable for people with restricted mobility.\n\nEntry Cost\nAll tickets $60  - $80 Adults \n$150 friends in forage (two adults)\n$60 Concession/Pensioner/Child/Underemployed\n\nFREE Under 5 yo
LOCATION:\, Clovelly\, NSW 2031\, NSW\, 2031
RRULE:FREQ=DAILY;INTERVAL=1;UNTIL=20260702T000000Z
END:VEVENT
END:VCALENDAR
