BEGIN:VCALENDAR
VERSION:2.0
PRODID:-//My Community Diary//iCal Event//EN
CALSCALE:GREGORIAN
METHOD:PUBLISH
BEGIN:VEVENT
UID:ec712fa1-eb2a-4d20-a0fe-761af5e4ff66
DTSTAMP:20260422T005105Z
DTSTART;VALUE=DATE:20261022
DTEND;VALUE=DATE:20261023
SUMMARY:Sea Otter Australia Festival
DESCRIPTION:The Ultimate Bike Party Returns - the Sea Otter Australia Festival is back on the NSW South Coast\, celebrating the awesome Mogo Trails and the vibrant Batemans Bay region after a hugely successful inaugural year. Get ready for non-stop fun\, cementing its place as the biggest bike party in the country.\n\nThere's a race or a ride for everyone\, every day and so much to do off the trails at the Expo in town! That Festival Hub hosts Australia's largest mountain bike show\, featuring over 200 brands ready to showcase the latest bikes\, offer demo rides\, and provide great giveaways and deals - meet industry leaders and soak up the unique festival buzz!\n\nOn the trails\, official races guarantee action for everyone. Riders can challenge themselves in gravity enduro events\, test their limits in a cross-country marathon\, or witness the thrilling\, head-to-head spectacle of eBike racing. The event is passionately inclusive\, proudly hosting Australia's biggest Adaptive Racer field and championing junior riders through the Sea Otter School Championships and fun Flipper Kids Races.\n\nFamilies and friends will find endless entertainment - watch exciting Cyclo-Cross beach races\, catch gravity-defying freestyle shows\, and enjoy delicious local food and drinks. Sea Otter Australia is more than an event\; it is an unmatched opportunity to ride\, race\, shop\, and socialise\, creating lasting memories for all ages and cycling disciplines.
LOCATION:\, 57 Beach Road\, Batemans Bay\, NSW 2536\, NSW\, 2536
RRULE:FREQ=DAILY;INTERVAL=1;UNTIL=20261024T000000Z
END:VEVENT
END:VCALENDAR
