BEGIN:VCALENDAR
VERSION:2.0
PRODID:-//My Community Diary//iCal Event//EN
CALSCALE:GREGORIAN
METHOD:PUBLISH
BEGIN:VEVENT
UID:49d01ccf-2dbe-433a-b105-74811d49fbd6
DTSTAMP:20260423T140349Z
DTSTART;VALUE=DATE:20260510
DTEND;VALUE=DATE:20260511
SUMMARY:Sea of Legs
DESCRIPTION:Sea of Legs is a striking installation by Dr Judy-Ann Moule. The work draws on childhood memories and the feeling of being powerless\, using scale to bring those emotions to the surface.\n\nThrough sculpture and installation\, Moule revisits the experience of being small and surrounded—a sea of legs towering overhead. The piece stems from a vivid early memory: being two years old\, caught in a crowded room full of partying adults.
LOCATION:\, 230 High Street\, Maitland\, NSW 2320\, NSW\, 2320
RRULE:FREQ=DAILY;INTERVAL=1;UNTIL=20260512T000000Z
END:VEVENT
END:VCALENDAR
