BEGIN:VCALENDAR
VERSION:2.0
PRODID:-//My Community Diary//iCal Event//EN
CALSCALE:GREGORIAN
METHOD:PUBLISH
BEGIN:VEVENT
UID:865f8364-a340-4b36-8fe4-09b97009271b
DTSTAMP:20260422T015724Z
DTSTART;VALUE=DATE:20270828
DTEND;VALUE=DATE:20270829
SUMMARY:Sculpture on the Farm Dungog
DESCRIPTION:Throughout the year\, explore the Sculpture Trail and enjoy a walk in  the Dungog Common Recreation Reserve. Entry is free.  Experience the magic of contemporary Australian sculpture set against the beautiful backdrop of Dungog's rolling hills.  \n\nRecipient of the Hunter Region Tourism Gold Medal Award 2025\, Sculpture on the Farm\, proudly enriches the Dungog Shire by donating sculptures for public display\, leaving a lasting legacy in this charming rural community of Dungog - a celebration of art\, nature\, and creativity!  \n\nYou will see 7 sculptures as you make your way down the Dungog Common Sculpture Trail from the Short Street entry to the amenities block near the Common Road entry.  Another ephemeral work can be found in Common Creek opposite Gate 4 of the Dungog Common. Take a stroll through the town of Dungog and see another 3 sculptures \, near the Visitor Information Centre\, the Dungog Shire Library and Lioness Park opposite Short Street.\n\nA drive to Gresford will take you to the Gresford Arboretum where to be welcomed by "HoneyRoo" by Jimmy Rix.
LOCATION:\, 72 Common Road\, Dungog\, NSW 2420\, NSW\, 2420
RRULE:FREQ=DAILY;INTERVAL=1;UNTIL=20270830T000000Z
END:VEVENT
END:VCALENDAR
