BEGIN:VCALENDAR
VERSION:2.0
PRODID:-//My Community Diary//iCal Event//EN
CALSCALE:GREGORIAN
METHOD:PUBLISH
BEGIN:VEVENT
UID:bdd9c0db-8572-45a8-a83e-032c2cd102b6
DTSTAMP:20260421T223015Z
DTSTART;VALUE=DATE:20260523
DTEND;VALUE=DATE:20260524
SUMMARY:Say Cheese\, Farmgate Restaurant Showcase Dinner
DESCRIPTION:Save the date and be sure to follow their socials and website to see more details of the menu\n\nA 5 course cheese-centric menu showcasing the skills and passions of Chef Gerald Poelzl and his team.\n\nOption to match cocktails featuring spirits from Tara Distilling. \n\nProudly supported by the Shoalhaven Food Network as part of the Autumn Celebration of Food.\n\nEntry Cost\nAll tickets $150 
LOCATION:\, 53 Graham Street\, Nowra\, NSW 2541\, NSW\, 2541
END:VEVENT
END:VCALENDAR
