BEGIN:VCALENDAR
VERSION:2.0
PRODID:-//My Community Diary//iCal Event//EN
CALSCALE:GREGORIAN
METHOD:PUBLISH
BEGIN:VEVENT
UID:ef453934-33d2-477d-9b4c-deb2bf337758
DTSTAMP:20260422T013725Z
DTSTART;VALUE=DATE:20261022
DTEND;VALUE=DATE:20261023
SUMMARY:Savour The Tweed
DESCRIPTION:Savour The Tweed is a new food and drink event.\n\nOver five days\, celebrate culinary excellence where fresh-grown goodness is on the menu and delicious times are guaranteed.  \n\nSavour The Tweed features a stunning program of over 20 distinctive events\, showcasing The Tweed's gourmet offerings and those who bring them to life\, from First Nations storytellers and passionate chefs to talented distillers\, brewers and baristas\, cheesemakers\, farmers and an endless list of artisan producers. \n\nCo-curated by Tweed-based chef and author\, Christine Manfield and local food advocate Amy Colli of Straight To The Source\, the inaugural event will spotlight local and visiting chefs\, serving up menus inspired by locally grown and made foods\, as well as the growing list of Tweed-made drinks.
LOCATION:\, Marine Parade\, Kingscliff\, NSW 2487\, NSW\, 2487
RRULE:FREQ=DAILY;INTERVAL=1;UNTIL=20261024T000000Z
END:VEVENT
END:VCALENDAR
