BEGIN:VCALENDAR
VERSION:2.0
PRODID:-//My Community Diary//iCal Event//EN
CALSCALE:GREGORIAN
METHOD:PUBLISH
BEGIN:VEVENT
UID:b0fd524b-be1d-4d4e-bc2a-157156d6a44b
DTSTAMP:20260422T002956Z
DTSTART;VALUE=DATE:20261023
DTEND;VALUE=DATE:20261024
SUMMARY:Sapphire Coast Week of Golf
DESCRIPTION:Now in its 43rd plus year\, the annual Sapphire Coast Week of Golf is the high point of the golfing calendar for the Pambula Merimbula Golf Club and for the Far South Coast region at large. \n\nDescribed by the influential Inside Golf magazine as 'the finest tournament of its type in Australia'\, the competition annually attracts around 300-450 entrants from every state and territory as well as numerous overseas visitors from such places as the United Kingdom\, Canada\, Singapore and New Zealand. \n\nHighly regarded for its friendly atmosphere and professional organisation the tournament has encouraged many return visits from golfers\, some having participated for more than 30 years. \n\nThe Annual Week of Golf comprises multiple days of women's\, men's and mixed competitions. The week concludes with the Pambula Merimbula  Men's Open Championship on the final Saturday and Sunday.
LOCATION:\, 173 Arthur Kaine Drive\, Merimbula\, NSW 2548\, NSW\, 2548
RRULE:FREQ=DAILY;INTERVAL=1;UNTIL=20261025T000000Z
END:VEVENT
END:VCALENDAR
