BEGIN:VCALENDAR
VERSION:2.0
PRODID:-//My Community Diary//iCal Event//EN
CALSCALE:GREGORIAN
METHOD:PUBLISH
BEGIN:VEVENT
UID:0f539915-683f-4aab-ba76-748dde32ee07
DTSTAMP:20260421T224322Z
DTSTART;VALUE=DATE:20260516
DTEND;VALUE=DATE:20260517
SUMMARY:Saplings
DESCRIPTION:Yani wants to go to the Easter Show\, Kai wants a sense of home\, Shanika wants her Mum back\, and Lachlan… well\, he just wants his bowl of noodles. But when the justice system is all that stands between these young people and what they want\, it raises an important question—how do young people grow when the system keeps cutting them down?\n\nAfter premiering at The Rebel Theatre for the 2024 Sydney Festival and winning the Sydney Theatre Award for Best Production for Young People\, Saplings returns to the Sydney stage. Written by Yuwaalaray playwright Hannah Belanszky and directed by Kalkadoon artist Abbie-lee Lewis\, this collection of hilarious and heartbreaking stories emerges from workshops with young people navigating the youth justice system from Marrickville to Moree. Four talented young actors take on multiple roles in this poetic\, personal\, and unexpected production that will leave you questioning: who's really to blame?\n\nSet to a soundtrack of rap and hip-hop music made by young people in the youth justice system\, Saplings gives an honest\, raw look into the adult consequences faced by some of our most vulnerable. \n\nSydney Opera House presents an Australian Theatre for Young People (ATYP) production
LOCATION:\, Bennelong Point\, Sydney\, NSW 2000\, NSW\, 2000
RRULE:FREQ=DAILY;INTERVAL=1;UNTIL=20260518T000000Z
END:VEVENT
END:VCALENDAR
