BEGIN:VCALENDAR
VERSION:2.0
PRODID:-//My Community Diary//iCal Event//EN
CALSCALE:GREGORIAN
METHOD:PUBLISH
BEGIN:VEVENT
UID:b46f543a-84f9-4428-ab58-e581be77b314
DTSTAMP:20260422T013834Z
DTSTART;VALUE=DATE:20260424
DTEND;VALUE=DATE:20260425
SUMMARY:Salsa Classes  – Wharf Bar & Restaurant
DESCRIPTION:Turn up your Friday night rhythm with Latin beats\, sizzling moves and laid-back river vibes.\n\nEvery Friday from 6:30pm to 11:30pm\, the riverside comes alive with a Latin DJ set from Robert Fraser\, delivering feel-good tracks that set the tone for a vibrant evening. From 7:30pm to 8:30pm\, join Salsa Mind's Elena Usenko for an energetic salsa class designed for all levels — whether you're mastering the basics or adding flair to your footwork.\n\nBetween songs and steps\, enjoy delicious food\, refreshing drinks and the relaxed atmosphere that only a riverfront setting can deliver. The salsa class is $20 and includes complimentary guacamole and tortillas\, because dancing works up an appetite.\n\nCome for the music\, stay for the moves\, and let Friday night do what it does best — start the weekend on a high note.
LOCATION:\, 12-24 Fawcett St\, Ballina\, NSW 2478\, NSW\, 2478
RRULE:FREQ=DAILY;INTERVAL=1;UNTIL=20260426T000000Z
END:VEVENT
END:VCALENDAR
