BEGIN:VCALENDAR
VERSION:2.0
PRODID:-//My Community Diary//iCal Event//EN
CALSCALE:GREGORIAN
METHOD:PUBLISH
BEGIN:VEVENT
UID:60096b23-22a5-4aa6-8251-1c9475aab39f
DTSTAMP:20260422T001603Z
DTSTART;VALUE=DATE:20260926
DTEND;VALUE=DATE:20260927
SUMMARY:Run The Plains - Moree
DESCRIPTION:Run the Plains - Moree is an exhilarating and inclusive running event with a range of distances to suit all ages and abilities.\n\nThe details on this page are based on the previous event and subject to change\; updates will become available as more information comes to hand.\n\nStarting on Friday evening\, the event features a 1km sprint – the Kamilaroi K\, Community K and Kids Dash\, in Moree's CBD. Saturday has 5 races based from the Visitor Information Centre with 3km\, 5km\, 10km\, 21.1km options. Complete the 21.1km\,  10km and 5km events for the 'Triple' - a combined distance of 36.1km.\n\nThere are cash prizes for category winners.\n\nEntry Cost\nAll tickets $20 
LOCATION:\, Moree\, NSW 2400\, NSW\, 2400
RRULE:FREQ=DAILY;INTERVAL=1;UNTIL=20260928T000000Z
END:VEVENT
END:VCALENDAR
