BEGIN:VCALENDAR
VERSION:2.0
PRODID:-//My Community Diary//iCal Event//EN
CALSCALE:GREGORIAN
METHOD:PUBLISH
BEGIN:VEVENT
UID:a219dc6f-7a63-4810-9772-328c91c76e54
DTSTAMP:20260421T224413Z
DTSTART;VALUE=DATE:20260510
DTEND;VALUE=DATE:20260511
SUMMARY:Rotary Community Market
DESCRIPTION:You'll find just about anything at Rotary Community Market. Fresh produce\, arts and craft\, plants\, collectables\, preloved items\, plus yummy food\, great coffee and lots more!\n\nEntry is by gold coin or by tapping on a donation.\n\nFor health and safety reasons\, dogs are not allowed\; however\, service dogs are welcome.\n\nThe proceeds from the market are allocated to both local and international Rotary projects.\n\nIn a nutshell\, the Rotary market run jointly by the Rotary Clubs of Albury North and Belvoir-Wodonga.\n\nVisit the website to find information on hosting a stall\, including costs\, conditions\, and contact details.\n\nEntry Cost\nAdult $1 
LOCATION:\, 587 Wilson Street Level 1\, Albury\, NSW 2640\, NSW\, 2640
RRULE:FREQ=DAILY;INTERVAL=1;UNTIL=20260512T000000Z
END:VEVENT
END:VCALENDAR
