BEGIN:VCALENDAR
VERSION:2.0
PRODID:-//My Community Diary//iCal Event//EN
CALSCALE:GREGORIAN
METHOD:PUBLISH
BEGIN:VEVENT
UID:90f52b15-0ea9-4bb6-a628-cecdb9a14086
DTSTAMP:20260422T035755Z
DTSTART;VALUE=DATE:20260508
DTEND;VALUE=DATE:20260509
SUMMARY:Ross Noble - Cranium of Curiosities - Maitland
DESCRIPTION:Roll up\, roll up or use a more conventional form of transport to get to the show.  It's entirely your choice\, unless you accidentally become trapped in a barrel.\n\nShould that happen\, then just find an incline and start rolling to see the one and only Ross Noble.\n\nHe is the Wizard of Waffle\, The Rambler Royale\, The Noodlers' Noodler\, and he's back live on stage to tour a tornado of tangents.\n\nWhat the show will be about is anybody's guess\, but that's all part of the fun when you look inside his Cranium of Curiosities.\n\nThis stand up comedy show is sure to be a barrel of laughs.\n\nEntry Cost\nAll tickets $59.9 
LOCATION:\, 263 High Street\, Maitland\, NSW 2320\, NSW\, 2320
END:VEVENT
END:VCALENDAR
