BEGIN:VCALENDAR
VERSION:2.0
PRODID:-//My Community Diary//iCal Event//EN
CALSCALE:GREGORIAN
METHOD:PUBLISH
BEGIN:VEVENT
UID:1863089e-d960-4bdb-9324-10cfa177f27f
DTSTAMP:20260422T032624Z
DTSTART;VALUE=DATE:20260522
DTEND;VALUE=DATE:20260523
SUMMARY:Rockaria The Elo Experience
DESCRIPTION:Rockaria The Elo Experience is a tribute to the unforgettable sound of Jeff Lynne's The Electric Light Orchestra.\n\nEvil Woman\, Rock and Roll is King\, Don't Bring Me Down\, Xanadu\, Living Thing\, Telephone Line\, Turn to Stone and also featuring music from Jeff Lynne's Traveling Wilburys.\n\nSo many hit songs\, you will not want this night to finish.\n\nEntry Cost\nAll tickets $55  - Full Price $79.00\nConcession $74.00\nChild under 18yrs $55.00\nGroup 6+ $74.00 each\nMember $74.00
LOCATION:\, 525 Swift St\, Albury NSW\, Australia\, Albury\, NSW 2640\, NSW\, 2640
END:VEVENT
END:VCALENDAR
