BEGIN:VCALENDAR
VERSION:2.0
PRODID:-//My Community Diary//iCal Event//EN
CALSCALE:GREGORIAN
METHOD:PUBLISH
BEGIN:VEVENT
UID:9ecc6e0a-d4cb-479b-9e8d-4744d5b293b2
DTSTAMP:20260421T224424Z
DTSTART;VALUE=DATE:20261115
DTEND;VALUE=DATE:20261116
SUMMARY:River & Wren Markets
DESCRIPTION:River & Wren Market is Wagga Wagga's premier handmade and artisan market\, offering a vibrant and welcoming shopping experience for locals and visitors alike. Held at the Wagga Wagga Showground\, River & Wren brings together a carefully curated selection of talented makers\, creators\, and small businesses from across the Riverina and beyond.\n\nEach event showcases a stunning range of handmade homewares\, fashion\, art\, gourmet food\, unique gifts\, and more — all thoughtfully crafted with quality and creativity at their core.\n\nMore than just a market\, River & Wren is a celebration of community\, creativity\, and connection. Visitors can enjoy browsing beautifully styled stalls\, meeting the makers\, discovering new treasures\, and experiencing the warm\, friendly atmosphere that makes River & Wren so special.\n\nWhether you're looking for the perfect handmade gift\, something delicious to take home\, or simply a fun and inspiring day out\, River & Wren Market offers an experience you won't want to miss.
LOCATION:\, Bourke Street\, Mount Austin\, NSW 2650\, NSW\, 2650
RRULE:FREQ=DAILY;INTERVAL=1;UNTIL=20261117T000000Z
END:VEVENT
END:VCALENDAR
