BEGIN:VCALENDAR
VERSION:2.0
PRODID:-//My Community Diary//iCal Event//EN
CALSCALE:GREGORIAN
METHOD:PUBLISH
BEGIN:VEVENT
UID:fcde691d-fc59-425e-940e-de69ddd963b8
DTSTAMP:20260421T224207Z
DTSTART;VALUE=DATE:20260521
DTEND;VALUE=DATE:20260522
SUMMARY:Residual Paths By Perri Huggett
DESCRIPTION:Residual Paths by Perri Huggett is centred on the quiet\, persistent pull to return home\, both as a physical place and as a remembered emotional state. \n\nThrough themes of womanhood and girlhood\, the works reflect on how identity is shaped by memory. Girlhood appears as a soft\, fractured landscape\; tender\, naive\, and unresolved\, while womanhood emerges as its echo\, heavier with awareness\, responsibility\, and distance from innocence. Nostalgia is treated not as comfort\, but as ache\, a space where memory blurs with imagination\, and where the past becomes both refuge and wound.\n\nThe exhibition considers home as something continually chased but never fully reached. It is your family dinner table\, your childhood bedroom\, your body before it learned to brace itself. Grief threads through the works as an undercurrent\, asking whether we mourn people\, places\, or versions of ourselves left behind.\n\nUltimately\, this exhibition is about circling back\, following emotional trails and residual paths in an attempt to return to what once was\, knowing that arrival is impossible\, yet the longing remains.
LOCATION:\, 141 Mann Street\, Gosford\, NSW 2250\, NSW\, 2250
RRULE:FREQ=DAILY;INTERVAL=1;UNTIL=20260523T000000Z
END:VEVENT
END:VCALENDAR
