BEGIN:VCALENDAR
VERSION:2.0
PRODID:-//My Community Diary//iCal Event//EN
CALSCALE:GREGORIAN
METHOD:PUBLISH
BEGIN:VEVENT
UID:c2aa6efb-9ae5-46fd-981e-e9ab49d4726a
DTSTAMP:20260422T000519Z
DTSTART;VALUE=DATE:20261003
DTEND;VALUE=DATE:20261004
SUMMARY:ReBoot in Bermagui
DESCRIPTION:Enjoy two days of active participation in a variety of activities in Bermagui's beautiful coastal environment.\n\nThe ReActivate Program includes adult and kids fun runs\, teams tug-o-war\, ocean swims\, a social road bike ride and a healthy Bermagui breakfast. To participate in the ReActivate program\, register online through the website.\n\nThe ReEnergise Program offers something for everyone with yoga\, Tai Chi\, pilates\, stand-up paddle boarding\, golf\, barefoot bowls\, badminton\, pickleball\, kids entertainment and lots more.\n\nVisit the website for further information. Online registration for activities will commence approximately eight weeks before the event.
LOCATION:\, Lamont Street\, Bermagui\, NSW 2546\, NSW\, 2546
RRULE:FREQ=DAILY;INTERVAL=1;UNTIL=20261005T000000Z
END:VEVENT
END:VCALENDAR
