BEGIN:VCALENDAR
VERSION:2.0
PRODID:-//My Community Diary//iCal Event//EN
CALSCALE:GREGORIAN
METHOD:PUBLISH
BEGIN:VEVENT
UID:ef796341-656a-4946-b492-3068788e6502
DTSTAMP:20260422T032103Z
DTSTART;VALUE=DATE:20261003
DTEND;VALUE=DATE:20261004
SUMMARY:Rare Trades Weekends Spring Session - Calligraphy
DESCRIPTION:Join calligrapher and letterpress artisan Heidi Phillpot from Quill Fine Art Creations\, for a weekend celebrating the beauty of calligraphy and design.\n\nDive into beginner-friendly workshops where you'll learn the strokes\, shapes\, and techniques to craft your own stunning hand-lettered artwork.\n\nExperience the magic of calligraphy as Heidi creates personalised gift tags\, note cards\, and ornaments\, offering the perfect chance to take home a one-of-a-kind keepsake.
LOCATION:\, 127 Lord Baden Powell Drive\, Turvey Park\, NSW 2650\, NSW\, 2650
RRULE:FREQ=DAILY;INTERVAL=1;UNTIL=20261005T000000Z
END:VEVENT
END:VCALENDAR
