BEGIN:VCALENDAR
VERSION:2.0
PRODID:-//My Community Diary//iCal Event//EN
CALSCALE:GREGORIAN
METHOD:PUBLISH
BEGIN:VEVENT
UID:58aeae42-f350-4a72-852f-5a51a71e1298
DTSTAMP:20260422T031919Z
DTSTART;VALUE=DATE:20260510
DTEND;VALUE=DATE:20260511
SUMMARY:Random Weave Sculptures Workshop - Murwillumbah
DESCRIPTION:Join award-winning basketry artist Catriona Pollard for an inspiring\, hands-on basketry workshop and immerse yourself in the sculptural craft of random weave basketry. In this natural fibre weaving class\, you'll learn how to transform Bangalow Palm inflorescence into a unique basket or wall sculpture.\n\nEntry Cost\nAll tickets $195 
LOCATION:\, Queen Street\, Murwillumbah\, NSW 2484\, NSW\, 2484
END:VEVENT
END:VCALENDAR
