BEGIN:VCALENDAR
VERSION:2.0
PRODID:-//My Community Diary//iCal Event//EN
CALSCALE:GREGORIAN
METHOD:PUBLISH
BEGIN:VEVENT
UID:e811136f-f358-49fe-a7d3-a68eb1e3a6a9
DTSTAMP:20260422T033749Z
DTSTART;VALUE=DATE:20260825
DTEND;VALUE=DATE:20260826
SUMMARY:Ralph Kerle Gallery – Contemporary Abstract Photography
DESCRIPTION:The Ralph Kerle Gallery in Manly presents internationally recognised contemporary abstract photography\, transforming Sydney's waterways into breathtaking artworks. Kerle's practice is inspired by masters such as Turner and Rothko\, with works exhibited at the Rothko Museum and commissioned by Louis Vuitton.\n\nLocated just steps from Manly Beach\, the gallery is a must-visit cultural destination for art lovers\, collectors\, and visitors seeking an unforgettable experience. Discover rare limited-edition works\, immerse yourself in the play of light and water\, and connect with the essence of Sydney's coastal landscape.
LOCATION:\, 36 Sydney Rd\, Manly\, NSW 2095\, NSW\, 2095
RRULE:FREQ=DAILY;INTERVAL=1;UNTIL=20260827T000000Z
END:VEVENT
END:VCALENDAR
