BEGIN:VCALENDAR
VERSION:2.0
PRODID:-//My Community Diary//iCal Event//EN
CALSCALE:GREGORIAN
METHOD:PUBLISH
BEGIN:VEVENT
UID:e668f7ab-0961-45dd-ba11-fbe4cf74880e
DTSTAMP:20260421T222217Z
DTSTART;VALUE=DATE:20260904
DTEND;VALUE=DATE:20260905
SUMMARY:Quirindi Spring Show
DESCRIPTION:The intention of the Quirindi Show is to showcase what is produced on the Liverpool Plains\, the most fertile growing region in Australia… it is a way of showcasing our produce at this very important time. \n\nThe show brings together the youth\, the aged\, the town and the rural sector. They offer a show jam-packed with entertainment\, a show affordable and attractive to families and a competitor-friendly show with an updated schedule of events.\n\nEntry Cost\nAdult $10  - Friday Night Rodeo AUD15. \nSaturday Entry AUD10. \nSunday   Free entry\nStudent $5  - Youth\, 13-17 years \nFriday Night Rodeo AUD10\nSaturday Entry AUD5\nSunday Entry Free\nFamily $20  - Friday Night Rodeo AUD30\nSaturday Entry AUD20\nSunday Entry Free
LOCATION:\, Wallabadah Road\, Quirindi\, NSW 2343\, NSW\, 2343
RRULE:FREQ=DAILY;INTERVAL=1;UNTIL=20260906T000000Z
END:VEVENT
END:VCALENDAR
