BEGIN:VCALENDAR
VERSION:2.0
PRODID:-//My Community Diary//iCal Event//EN
CALSCALE:GREGORIAN
METHOD:PUBLISH
BEGIN:VEVENT
UID:4ff208d6-b03d-4f7a-9f0b-595a095b9a37
DTSTAMP:20260422T015647Z
DTSTART;VALUE=DATE:20260918
DTEND;VALUE=DATE:20260919
SUMMARY:QuiltNSW Exhibition
DESCRIPTION:This exciting event includes the Sydney Quilt Show members’ exhibition of 400-plus quilts.\n\nQuiltNSW proudly presents the QuiltNSW Exhibition 2025 at the Grand Pavilion\, Rosehill Gardens Racecourse.\n\nEntry Cost\nAll tickets $25  - Standard Entry Ticket (1 day) AUD25\n\nQuiltStar Premium Entry Ticket (1 day) AUD
LOCATION:\, James Ruse Drive Grand Avenue Gate 1\, Rosehill\, NSW 2142\, NSW\, 2142
RRULE:FREQ=DAILY;INTERVAL=1;UNTIL=20260920T000000Z
END:VEVENT
END:VCALENDAR
