BEGIN:VCALENDAR
VERSION:2.0
PRODID:-//My Community Diary//iCal Event//EN
CALSCALE:GREGORIAN
METHOD:PUBLISH
BEGIN:VEVENT
UID:bb923585-0e7d-4efa-abaa-30388b154fb5
DTSTAMP:20260422T022632Z
DTSTART;VALUE=DATE:20260801
DTEND;VALUE=DATE:20260802
SUMMARY:Queen Rocks - Royal Rhapsody Tour
DESCRIPTION:The best Queen tribute show in Australia is bringing its Royal Rhapsody tour to the Wagga Civic Theatre stage!\n\nQueen Rocks deliver a musical extravaganza like no other! You'll be treated to all of Queen's Greatest Hits including We Will Rock You\, We are the Champions\, Killer Queen\, Don't Stop Me Now\, You're My Best Friend\, Somebody to Love\, Another One Bites the Dust\, Crazy Little Thing Called Love\, Radio Ga Ga\, I Want to Break Free\, the unrivalled epic Bohemian Rhapsody\, and many more iconic songs across an epic two hour live show.\n\nQueen Rocks is the definitive tribute to Queen\, the greatest rock band of all time! They've been amazing audiences for over twenty years with the Australia's most entertaining Queen tribute show.\n\nAuthentically capturing Queen's unique sound and theatrical stage performances\, Queen rocks bring to life the showmanship\, musicianship and majestic power that saw Queen rock stadiums all over the world.\n\nDon't miss this unique celebration of the most incredible songs in rock history!\n\nEntry Cost\nAll tickets $59.9  - Early Bird Sale (Until April 13)\n\nPREMIUM SEATING\nAdult $79.40\nConcession $74.40\nMember $69.40\nChild $64.40\nGroup 8+ $74.40\nFamily $277.60\n\nA RESERVE SEATING\nAdult $69.40\nConcession $64.40\nMember $59.40\nChild $54.40\nGroup 8+ $64.40\nFamily $237.60
LOCATION:\, Burns Way\, Wagga Wagga\, NSW 2650\, NSW\, 2650
END:VEVENT
END:VCALENDAR
