BEGIN:VCALENDAR
VERSION:2.0
PRODID:-//My Community Diary//iCal Event//EN
CALSCALE:GREGORIAN
METHOD:PUBLISH
BEGIN:VEVENT
UID:fdb8a30c-3b41-4969-b49f-28bc577ea863
DTSTAMP:20260422T021840Z
DTSTART;VALUE=DATE:20260731
DTEND;VALUE=DATE:20260801
SUMMARY:Queen Rocks - Albury
DESCRIPTION:The best Queen tribute show in Australia is bringing its Royal Rhapsody tour to Albury Entertainment Centre!\n\nQueen Rocks deliver a musical extravaganza like no other! You'll be treated to all of Queen's Greatest Hits including We Will Rock You\, We are the Champions\, Killer Queen\, Don't Stop Me Now\, You're My Best Friend\, Somebody to Love\, Another One Bites the Dust\, Crazy Little Thing Called Love\, Radio Ga Ga\, I Want to Break Free\, the unrivalled epic Bohemian Rhapsody\, and many more iconic songs across an epic two hour live show.\n\nQueen Rocks is the definitive tribute to Queen\, the greatest rock band of all time! They've been amazing audiences for over twenty years with the Australia's most entertaining Queen tribute show.\n\nAuthentically capturing Queen's unique sound and theatrical stage performances\, Queen Rocks bring to life the showmanship\, musicianship and majestic power that saw Queen rock stadiums all over the world. Don't miss this unique celebration of the most incredible songs in rock history!\n\nEntry Cost\nAll tickets $69.9  - Premium	\nAdult $84.90\nConcession $79.90\nChild Under 17yrs $69.90\nGroup 8+ $79.90\nFamily(2A + 2C) $299.60	\nMembers $74.90\nAll tickets $59.9  - A Reserve\nAdult $74.90\nConcession $69.90\nChild Under 17yrs $59.90\nGroup 8+ $69.90\nFamily(2A + 2C) $259.60\nMembers $64.90\nAll tickets $59.9  - Early Bird Premium\nAdult $74.90\nConcession $69.90\nChild Under 17yrs $59.90\nGroup 8+ $69.90\nFamily(2A + 2C) $259.60\nMembers $64.90\n\nEarly Bird Pricing from Monday 16 March\, 10.00am - Sunday 12 April\, 10.00am\nAll tickets $49.9  - Early Bird A Reserve\nAdult $64.90\nConcession $59.90\nChild Under 17yrs $49.90\nGroup 8+ $59.90\nFamily(2A + 2C) $219.60 \nMembers $54.90\n\nEarly Bird Pricing from Monday 16 March\, 10.00am - Sunday 12 April\, 10.00am
LOCATION:\, 525 Swift St\, Albury\, NSW 2640\, NSW\, 2640
END:VEVENT
END:VCALENDAR
