BEGIN:VCALENDAR
VERSION:2.0
PRODID:-//My Community Diary//iCal Event//EN
CALSCALE:GREGORIAN
METHOD:PUBLISH
BEGIN:VEVENT
UID:2887b555-7d1b-46ef-b234-b0856360716e
DTSTAMP:20260422T023715Z
DTSTART;VALUE=DATE:20260514
DTEND;VALUE=DATE:20260515
SUMMARY:Queanbeyan-Palerang Heritage Festival
DESCRIPTION:The Queanbeyan-Palerang Regional Council's Heritage Festival is held annually throughout April and May. \n\nThe 2026 festival theme is – 'Change' – How history changes humans and how humans are changing history.  QPRC works in conjunction with the National Trusts Australian Heritage Festival and the ACT Region Heritage Festival.  Sharing the region's social and family histories to a broader audience has been the goal of this festival over the past 20 years. \n\nThe full program will be published online and in print\, in March.
LOCATION:\, 257 Crawford Street\, Queanbeyan\, NSW 2620\, NSW\, 2620
RRULE:FREQ=DAILY;INTERVAL=1;UNTIL=20260516T000000Z
END:VEVENT
END:VCALENDAR
