BEGIN:VCALENDAR
VERSION:2.0
PRODID:-//My Community Diary//iCal Event//EN
CALSCALE:GREGORIAN
METHOD:PUBLISH
BEGIN:VEVENT
UID:ee4a8af2-c33e-40e8-b970-342f6dcb2ffb
DTSTAMP:20260421T224110Z
DTSTART;VALUE=DATE:20260428
DTEND;VALUE=DATE:20260429
SUMMARY:Queanbeyan-Palerang Heritage Festival
DESCRIPTION:The Queanbeyan-Palerang Regional Council's Heritage Festival is held annually throughout April and May. \n\nThe 2026 festival theme is – 'Change' – How history changes humans and how humans are changing history.  QPRC works in conjunction with the National Trusts Australian Heritage Festival and the ACT Region Heritage Festival.  Sharing the region's social and family histories to a broader audience has been the goal of this festival over the past 20 years. \n\nThe full program will be published online and in print\, in March.
LOCATION:\, 257 Crawford Street\, Queanbeyan\, NSW 2620\, NSW\, 2620
RRULE:FREQ=DAILY;INTERVAL=1;UNTIL=20260430T000000Z
END:VEVENT
END:VCALENDAR
