BEGIN:VCALENDAR
VERSION:2.0
PRODID:-//My Community Diary//iCal Event//EN
CALSCALE:GREGORIAN
METHOD:PUBLISH
BEGIN:VEVENT
UID:efbc123f-48f2-49c1-9412-e510959bd5b8
DTSTAMP:20260424T101112Z
DTSTART;VALUE=DATE:20270124
DTEND;VALUE=DATE:20270125
SUMMARY:Pyree Art and Handmade Market
DESCRIPTION:Shoalhaven Potters hold a monthly makers' market on the 4th Sunday of each month except December (3rd Sunday only) . \n\nThis is a makers market with lots of pottery\, woodworking\, embroidery\, jewellery\, plants\, stone carving\, gifts\, cards\, jams\, preserves\, soaps\, lavender\, hats\, scarves\, babywear and lots more.\n\nThere's also hot and cold food and a coffee van.
LOCATION:\, 888 Greenwell Point Road\, Pyree\, NSW 2540\, NSW\, 2540
RRULE:FREQ=DAILY;INTERVAL=1;UNTIL=20270126T000000Z
END:VEVENT
END:VCALENDAR
