BEGIN:VCALENDAR
VERSION:2.0
PRODID:-//My Community Diary//iCal Event//EN
CALSCALE:GREGORIAN
METHOD:PUBLISH
BEGIN:VEVENT
UID:d028d892-4ea5-44a2-a06c-3a400c8ac426
DTSTAMP:20260422T083714Z
DTSTART;VALUE=DATE:20261025
DTEND;VALUE=DATE:20261026
SUMMARY:Pyree Art and Handmade Market
DESCRIPTION:Shoalhaven Potters hold a monthly makers' market on the 4th Sunday of each month except December (3rd Sunday only) . \n\nThis is a makers market with lots of pottery\, woodworking\, embroidery\, jewellery\, plants\, stone carving\, gifts\, cards\, jams\, preserves\, soaps\, lavender\, hats\, scarves\, babywear and lots more.\n\nThere's also hot and cold food and a coffee van.
LOCATION:\, 888 Greenwell Point Road\, Pyree\, NSW 2540\, NSW\, 2540
RRULE:FREQ=DAILY;INTERVAL=1;UNTIL=20261027T000000Z
END:VEVENT
END:VCALENDAR
