BEGIN:VCALENDAR
VERSION:2.0
PRODID:-//My Community Diary//iCal Event//EN
CALSCALE:GREGORIAN
METHOD:PUBLISH
BEGIN:VEVENT
UID:2ce22ca5-8798-4954-9fb9-e3e165da0edb
DTSTAMP:20260422T021024Z
DTSTART;VALUE=DATE:20260726
DTEND;VALUE=DATE:20260727
SUMMARY:Pyree Art and Handmade Market
DESCRIPTION:Shoalhaven Potters hold a monthly makers' market on the 4th Sunday of each month except December (3rd Sunday only) . \n\nThis is a makers market with lots of pottery\, woodworking\, embroidery\, jewellery\, plants\, stone carving\, gifts\, cards\, jams\, preserves\, soaps\, lavender\, hats\, scarves\, babywear and lots more.\n\nThere's also hot and cold food and a coffee van.
LOCATION:\, 888 Greenwell Point Road\, Pyree\, NSW 2540\, NSW\, 2540
RRULE:FREQ=DAILY;INTERVAL=1;UNTIL=20260728T000000Z
END:VEVENT
END:VCALENDAR
