BEGIN:VCALENDAR
VERSION:2.0
PRODID:-//My Community Diary//iCal Event//EN
CALSCALE:GREGORIAN
METHOD:PUBLISH
BEGIN:VEVENT
UID:57813e45-64ce-402f-bdd8-4478fcb56f9e
DTSTAMP:20260422T005211Z
DTSTART;VALUE=DATE:20260829
DTEND;VALUE=DATE:20260830
SUMMARY:Psychic\, Jewellery and Fused Glass Fair\, East Kurrajong
DESCRIPTION:Treat yourself to an out-of-this-world experience with local mediums and spiritualists\, Psychometry\, Tarot Cards\, Tea Leaf Readings and more.\n\nA good range of Fused Glass\, Candles\, Crystals\, Gems\, Handmade Jewellery\,  Tumble Stones\, Masseur and Market Stalls.\n\nRefreshments are available. Free entry and off-street parking are available.
LOCATION:\, 1090 East Kurrajong Road\, East Kurrajong\, NSW 2758\, NSW\, 2758
END:VEVENT
END:VCALENDAR
