BEGIN:VCALENDAR
VERSION:2.0
PRODID:-//My Community Diary//iCal Event//EN
CALSCALE:GREGORIAN
METHOD:PUBLISH
BEGIN:VEVENT
UID:9511c54b-0306-4dc3-ba58-932e68476f6a
DTSTAMP:20260422T015648Z
DTSTART;VALUE=DATE:20260423
DTEND;VALUE=DATE:20260424
SUMMARY:Power – The Future is Here
DESCRIPTION:Power - The Future is Here is the result of a collaboration between artist Dennis Golding and Aboriginal and Torres Strait Islander students from Alexandria Park Community School. The superhero capes were created during a workshop in 2020\, led by Golding who was an artist in residence at the school through Solid Ground. Students from Kindergarten to Year 12 designed their capes with iconography informed by their lived experiences and cultural identity. As superheroes\, Golding and his young collaborators are empowered and reminded of the strength of their culture in forming their identity and connection to Country.\n\nIndividually and together\, the capes critique social\, political and cultural representations of contemporary First Nations experience. A Solid Ground project with Dennis Golding and Alexandria Park Community School\, curated by Kyra Kum-Sing\, presented by Carriageworks and Blacktown Arts\, and touring with Museums & Galleries of NSW. This project has been assisted by the Australian Government's Visions of Australia program.
LOCATION:\, 12 Berry Street\, Nowra\, NSW 2541\, NSW\, 2541
RRULE:FREQ=DAILY;INTERVAL=1;UNTIL=20260425T000000Z
END:VEVENT
END:VCALENDAR
