BEGIN:VCALENDAR
VERSION:2.0
PRODID:-//My Community Diary//iCal Event//EN
CALSCALE:GREGORIAN
METHOD:PUBLISH
BEGIN:VEVENT
UID:ae359860-745a-4101-8ff5-7ae03597e9fe
DTSTAMP:20260422T002957Z
DTSTART;VALUE=DATE:20260704
DTEND;VALUE=DATE:20260705
SUMMARY:Pottery Wheelthrowing Experience
DESCRIPTION:Two hours of pottery wheel throwing designed to give you a taste of what it's like to create your own pieces on the pottery wheel. \n\nThis one-off experience includes tuition on the pottery wheel by an experienced teacher\, clay\, use of tools/equipment\, light refreshments and a clear glaze firing of three items each.\n\nEntry Cost\nAll tickets $145  - These one-off workshops are for adults only. Price is per person.  No children's classes are offered at this studio.\n\nPlease wear comfortable clothes and covered shoes. (clothes and shoes may get clay splatters on them. The clay will wash off)
LOCATION:\, 51 Rowlins Road Unit 3\, Gerringong\, NSW 2534\, NSW\, 2534
RRULE:FREQ=DAILY;INTERVAL=1;UNTIL=20260706T000000Z
END:VEVENT
END:VCALENDAR
