BEGIN:VCALENDAR
VERSION:2.0
PRODID:-//My Community Diary//iCal Event//EN
CALSCALE:GREGORIAN
METHOD:PUBLISH
BEGIN:VEVENT
UID:08f62e18-7e49-4205-9273-94d60eb49146
DTSTAMP:20260422T002149Z
DTSTART;VALUE=DATE:20260620
DTEND;VALUE=DATE:20260621
SUMMARY:Pottery Wheelthrowing Experience
DESCRIPTION:Two hours of pottery wheel throwing designed to give you a taste of what it's like to create your own pieces on the pottery wheel. \n\nThis one-off experience includes tuition on the pottery wheel by an experienced teacher\, clay\, use of tools/equipment\, light refreshments and a clear glaze firing of three items each.\n\nEntry Cost\nAll tickets $145  - These one-off workshops are for adults only. Price is per person.  No children's classes are offered at this studio.\n\nPlease wear comfortable clothes and covered shoes. (clothes and shoes may get clay splatters on them. The clay will wash off)
LOCATION:\, 51 Rowlins Road Unit 3\, Gerringong\, NSW 2534\, NSW\, 2534
RRULE:FREQ=DAILY;INTERVAL=1;UNTIL=20260622T000000Z
END:VEVENT
END:VCALENDAR
