BEGIN:VCALENDAR
VERSION:2.0
PRODID:-//My Community Diary//iCal Event//EN
CALSCALE:GREGORIAN
METHOD:PUBLISH
BEGIN:VEVENT
UID:b957e800-f447-4a4f-bbe8-91662e68f859
DTSTAMP:20260422T020212Z
DTSTART;VALUE=DATE:20260528
DTEND;VALUE=DATE:20260529
SUMMARY:Ponte and Old Salt Distillery Collab Dinner
DESCRIPTION:They are at it again! Joining forces to bring you an Old Salt & The Growers by Ponte Collaboration Event.\n\nYou are invited to The Growers by Ponte for a special dinner\, combining the skills of The Growers team with Terry and Michelle from Old Salt - there's sure to be some fire-grilled deliciousness there!
LOCATION:\, 131 Greenwell Point Road\, Worrigee\, NSW 2540\, NSW\, 2540
END:VEVENT
END:VCALENDAR
