BEGIN:VCALENDAR
VERSION:2.0
PRODID:-//My Community Diary//iCal Event//EN
CALSCALE:GREGORIAN
METHOD:PUBLISH
BEGIN:VEVENT
UID:fe8c32e0-955f-4503-b3c5-720e5a37c2ac
DTSTAMP:20260422T160514Z
DTSTART;VALUE=DATE:20261017
DTEND;VALUE=DATE:20261018
SUMMARY:Pocket City Farms Community Volunteering
DESCRIPTION:While away a Saturday morning among the peaceful serenity of Camperdown's Pocket City Farm. Sign up to one of its weekly Saturday morning volunteering sessions and give back to the community by helping with compost\, weeding\, planting and propagating plants. There are also evening sessions\, chicken caring opportunities and corporate volunteering options.
LOCATION:\, 31A Mallett St\, Camperdown\, NSW 2050\, NSW\, 2050
RRULE:FREQ=DAILY;INTERVAL=1;UNTIL=20261019T000000Z
END:VEVENT
END:VCALENDAR
