BEGIN:VCALENDAR
VERSION:2.0
PRODID:-//My Community Diary//iCal Event//EN
CALSCALE:GREGORIAN
METHOD:PUBLISH
BEGIN:VEVENT
UID:af8fb19d-cae1-4a7e-a1fd-f4c76d6c2b49
DTSTAMP:20260422T015621Z
DTSTART;VALUE=DATE:20260725
DTEND;VALUE=DATE:20260726
SUMMARY:Pocket City Farms Community Volunteering
DESCRIPTION:While away a Saturday morning among the peaceful serenity of Camperdown's Pocket City Farm. Sign up to one of its weekly Saturday morning volunteering sessions and give back to the community by helping with compost\, weeding\, planting and propagating plants. There are also evening sessions\, chicken caring opportunities and corporate volunteering options.
LOCATION:\, 31A Mallett St\, Camperdown\, NSW 2050\, NSW\, 2050
RRULE:FREQ=DAILY;INTERVAL=1;UNTIL=20260727T000000Z
END:VEVENT
END:VCALENDAR
