BEGIN:VCALENDAR
VERSION:2.0
PRODID:-//My Community Diary//iCal Event//EN
CALSCALE:GREGORIAN
METHOD:PUBLISH
BEGIN:VEVENT
UID:a2b6d463-1fe1-4098-b5a3-a1db4a34e2e9
DTSTAMP:20260422T003016Z
DTSTART;VALUE=DATE:20260725
DTEND;VALUE=DATE:20260726
SUMMARY:Piano Bar with Kyle Manning
DESCRIPTION:Piano Bar at The Oriana brings a lively night of music\, cocktails and sing-along favourites.\n\nKyle Manning leads the evening with an energetic\, interactive performance where guests can request songs and join in. The atmosphere builds throughout the night\, creating a fun and social experience perfect for groups or a night out.\n\nGuests can begin their evening with dinner in The Peacock Room before moving through to the bar for Piano Bar from 8:30pm.\n\nA vibrant night of music\, cocktails and good company.\n\nEntry Cost\nAll tickets $15 
LOCATION:\, 178-184 Woodward Street\, Orange\, NSW 2800\, NSW\, 2800
RRULE:FREQ=DAILY;INTERVAL=1;UNTIL=20260727T000000Z
END:VEVENT
END:VCALENDAR
