BEGIN:VCALENDAR
VERSION:2.0
PRODID:-//My Community Diary//iCal Event//EN
CALSCALE:GREGORIAN
METHOD:PUBLISH
BEGIN:VEVENT
UID:9e332ba1-ec1d-421e-b1a7-a2f3045eb6a1
DTSTAMP:20260421T205359Z
DTSTART;VALUE=DATE:20261120
DTEND;VALUE=DATE:20261121
SUMMARY:Pevan and Sarah in Concert - Albury
DESCRIPTION:Get ready to rock as Australia's favourite edutainment duo hits the stage for their biggest tour yet! Pevan and Sarah are bringing their high-energy musical extravaganza to theatres across the nation to show you exactly why they are the heartbeat of classrooms everywhere.\n\nIn this highly engaging\, interactive adventure\, your favourite friendly tiger and his spirited bestie will have the whole audience captivated. Expect a setlist bursting with your favourite Pevan and Sarah bangers\, plenty of belly laughs and that unmistakable Cub Club magic.\n\nCreated by teachers\, this show isn't just a concert - it's a brilliant blend of literacy\, numeracy and social-emotional learning\, all wrapped up in a spectacle that kids (and their grown-ups) will never forget.\n\nSo grab your tiger ears\, warm up those singing voices and join us for an experience of pure\, unforgettable joy. It's time to see the duo in the flesh - and the fur.\n\nEntry Cost\nAll tickets $24  - Free tickets will be offered to educators/supervising adults of school groups on a 10:1 student ratio.
LOCATION:\, 525 Swift Street\, Albury\, NSW 2640\, NSW\, 2640
END:VEVENT
END:VCALENDAR
