BEGIN:VCALENDAR
VERSION:2.0
PRODID:-//My Community Diary//iCal Event//EN
CALSCALE:GREGORIAN
METHOD:PUBLISH
BEGIN:VEVENT
UID:4e8b9e59-1702-41db-ab4a-1a54124cc54f
DTSTAMP:20260421T224133Z
DTSTART;VALUE=DATE:20261122
DTEND;VALUE=DATE:20261123
SUMMARY:Peter and the Wolf and other tails
DESCRIPTION:Join brave Peter and meet the instruments in the orchestra in this enchanting musical journey!\nThis fun and magical musical adventure is headlined by Peter and the Wolf by Sergei Prokofiev. In this exciting story\, each character is brought to life by a different instrument - the bird tweets on the flute\, the duck waddles with the oboe\, and the big\, scary wolf growls with the French horns! Follow brave little Peter as he outsmarts the wolf and saves the day!\n\nA program of musical story telling for the whole family. A magical introduction to the symphony orchestra and a joyful journey through beloved favourites. The perfect way for kids to discover the magic of music and meet the instruments of the orchestra.\n\nThe Lake Macquarie Philharmonic Orchestra is a professional regional orchestra dedicated to performing orchestral and operatic repertoire. It performs concerts regularly and accompanies the main productions of Opera Hunter.
LOCATION:\, 39 Lake Street\, Warners Bay\, NSW 2282\, NSW\, 2282
END:VEVENT
END:VCALENDAR
