BEGIN:VCALENDAR
VERSION:2.0
PRODID:-//My Community Diary//iCal Event//EN
CALSCALE:GREGORIAN
METHOD:PUBLISH
BEGIN:VEVENT
UID:ae7150fc-1b56-44ce-8fb9-668022fd5942
DTSTAMP:20260424T130337Z
DTSTART;VALUE=DATE:20260509
DTEND;VALUE=DATE:20260510
SUMMARY:Pete Murray Live at Orange Ex-Services' Club
DESCRIPTION:Great Southern Nights\, in association with Weird Fishes and Blue Max Music Live\, presents Pete Murray.\n\nGet ready for an unforgettable evening as one of Australia's most beloved singer-songwriters\, Pete Murray\, takes the stage at Orange Ex-Services Club! Known for his soulful voice\, heartfelt lyrics\, and captivating live performances\, Pete Murray will be performing his greatest hits and fan favourites in a night filled with music and emotion.\n\nEntry Cost\nAll tickets $65 
LOCATION:\, 231 Anson Street\, Orange\, NSW 2800\, NSW\, 2800
END:VEVENT
END:VCALENDAR
