BEGIN:VCALENDAR
VERSION:2.0
PRODID:-//My Community Diary//iCal Event//EN
CALSCALE:GREGORIAN
METHOD:PUBLISH
BEGIN:VEVENT
UID:97e0dc1c-6118-45e3-8bd0-390b6b39f869
DTSTAMP:20260421T205357Z
DTSTART;VALUE=DATE:20261021
DTEND;VALUE=DATE:20261022
SUMMARY:Permaculture at the Pub
DESCRIPTION:The Family Hotel are celebrating the science of permaculture. \n\nThis free event\, in association with Maplewood Permaculture\, will inspire budding gardeners and anyone interested in growing their own sustainable natural systems. \n\nDiscover the design principles for animal and land management in a relaxing and peaceful environment.\n\nHeld the third Wednesday of each month\, this event is a casual get together for anyone wanting to talk gardening\, sustainability\, self-sufficiency\, compost and local community. Since 2022\, Permaculture at the Pub has been connecting beginners\, experienced growers\, industry professionals and homesteaders.\n\nDrop in and stay for as long or as little as you like\, and enjoy chatting with fellow gardeners.
LOCATION:\, 607 High Street\, Maitland\, NSW 2320\, NSW\, 2320
RRULE:FREQ=DAILY;INTERVAL=1;UNTIL=20261023T000000Z
END:VEVENT
END:VCALENDAR
