BEGIN:VCALENDAR
VERSION:2.0
PRODID:-//My Community Diary//iCal Event//EN
CALSCALE:GREGORIAN
METHOD:PUBLISH
BEGIN:VEVENT
UID:4fb67946-183c-450f-84c8-250341ad907f
DTSTAMP:20260422T005002Z
DTSTART;VALUE=DATE:20260518
DTEND;VALUE=DATE:20260519
SUMMARY:PCYC Wagga Wagga Pickleball
DESCRIPTION:PCYC NSW hosts pickleball events for community members who are looking for a fun and easy way to stay active while enjoying the thrill of competition.\n\nIf you haven’t heard of pickleball before\, you’re not alone. But fortunately\, the premise is quite simple! The game is a mix between tennis\, badminton\, and squash\, and it’s similar to each of those sports in that you use a racquet to hit a ball over the net. It’s fast becoming a cult activity\, gaining huge popularity across the state.\n\nVisitors welcome.\n\nPlease join them for this fun activity everyday except Sunday.
LOCATION:\, 11 Fitzhardinge Street\, Wagga Wagga\, NSW 2650\, NSW\, 2650
RRULE:FREQ=DAILY;INTERVAL=1;UNTIL=20260520T000000Z
END:VEVENT
END:VCALENDAR
